Workbook
Name anz_comm: #REF!
Name Author: #REF!
Name first_comm_line: #REF!
Name name_feedback_sheet: #REF!
Name range_agree: #REF!
Name range_comments: #REF!
Name range_discuss: #REF!
Name range_rel: #REF!
Name range_resp: #REF!
Name range_status: #REF!
Name range_type: #REF!

Sheet Cover
B6: VDA QMC Working Group 13 (AK13 - Automotive SPICE)
B8: Reviewer Feedbacks & Comments
B10: Review Object
B11: Document: | C11: ASPICE Potential Analysis [PoA]
B12: Document Status: | C12: Yellow Volume
B13: Planned Release Revision: | C13: Revision 2
B14: Review Type: | C14: Yellow Volume [YR]
B15: Feedback Phase Duration: | C15: 08.10.2026 - 20.11.2026
B17: Reviewer (Main Contact)
B18: Name (Last Name, First Name):
B19: Mail Adress:
B20: Company:
B22: VDA QMC / AK13 Contacts
B23: Müller-Ott, Teresa (VDA QMC) | C23: teresa.mueller-ott.extern@vda-qmc.de
B24: Kless, Michael (Mercedes-Benz) | C24: michael.kless@mercedes-benz.com
B27: Notes / Hints
B28: Any feedback needs to be provided in English language - if applicable, please translate first before return to VDA QMC and AK13. Kindly send back your review comments and feedback to all VDA QMC / AK13 contact persons mentioned above until the end of the feedback phase.
B30: AK13 Template Reviewer Feedback / Comments
B31: V1.0

Sheet Guidance
B2: How to use the Cover sheet?
B9: Name (Last Name, First Name): | C9: mandatory, please specify one main contact for your organization (name, mail adress and company name), e.g. for AK13 questions / clarification and later implementation feedback.
B10: Mail Adress:
B11: Company:
B13: How to use the Comments & Feedback sheet?
B19: Reviewer ID | C19: optional | D19: Please fill in the user ID of the reviewer [optional], e.g. in case of several reviewer within your company
B20: Review Date | C20: optional | D20: Please fill in the date of your review [optional]
B21: Chapter | C21: select the chapter affected OR <others> / <General> | D21: Please select the affected chapter from the dropdown list
B22: Reference / Topic | C22: e.g. sub-chapter, rule, figure | D22: Please give a reference to subchapter, rule, figure, etc. (if needed)
B23: Actual Content / Text | C23: e.g. original text section | D23: If possible, provide the original text (as copy)
B24: Finding Type | C24: optional | D24: If possible, specify the type of the finding which helps to categorize and prioritize changes.
B25: Review / Feedback Comment | C25: e.g. problem, weakness, inconsistency | D25: Please specify the finding (rationale for the change request)
B26: Change Proposal | C26: mandatory, e.g. corrected/modified text, text to be added | D26: Provide a change proposal. ATTENTION: Findings without change proposal will be most likely rejected by the AK13.

Sheet Comments & Feedback
B2: Review Comments & Feedback Sheet
B4: Number | C4: Reviewer ID (optional) | D4: Review Date (optional) | E4: Chapter (select the chapter affected OR <others> / <General>) | F4: Reference / Topic (e.g. sub-chapter, rule, figure) | G4: Actual Content / Text (e.g. original text section) | H4: Finding Type (optional) | I4: Review / Feedback Comment (e.g. problem, weakness, inconsistency) | J4: Change Proposal (e.g. corrected/modified text, text to be added)
C5: Please fill in the user ID of the reviewer [optional] | D5: Please fill in the date of your review [optional] | E5: Please select the affected chapter from the dropdown list | F5: Please give a reference to subchapter, rule, figure, etc. (if needed) | G5: If possible, provide the original text (as copy) | H5: If possible, specify the type of the finding which helps to categorize and prioritize changes. | I5: Please specify the finding (rationale for the change request) | J5: Provide a change proposal. ATTENTION: Findings without change proposal will be most likely rejected by the AK13.
B7: 1 | E7: <Other>
B8: 2
B9: 3
B10: 4
B11: 5
B12: 6
B13: 7
B14: 8
B15: 9
B16: 10
B17: 11
B18: 12
B19: 13
... B506: 500

Sheet Export
A1: Unique Change Request ID | B1: Reviewer ID (optional) | C1: Review Date (optional) | D1: Chapter (select the chapter affected OR <others> / <General>) | E1: Reference / Topic (e.g. sub-chapter, rule, figure) | F1: Actual Content / Text (e.g. original text section) | G1: Finding Type (optional) | H1: Review / Feedback Comment (e.g. problem, weakness, inconsistency) | I1: Change Proposal (e.g. corrected/modified text, text to be added) | J1: Copied to CR List? | K1: Copy Date | L1: Comment
A3: =IF('Comments & Feedback'!$I7<>"",IF(Cover!$C$11="","#",_xlfn.TEXTAFTER(LEFT(Cover!$C$11,LEN(Cover!$C$11)-1),"["))&"_"&IF(Cover!$C$13="","#",Cover!$C$13)&"_"&IF(RIGHT(Cover!$C$14,4)="","#",SUBSTITUTE(SUBSTITUTE(RIGHT(Cover!$C$14,4),"[",""),"]",""))&"_"&IF(LEFT(Cover!$C$20,4)="","#",LEFT(Cover!$C$20,4))&"_"&IF(LEFT(Cover!$C$18,3)="","#",LEFT(Cover!$C$18,3))&"_"&IF('Comments & Feedback'!$B7="","#",TEXT('Comments & Feedback'!$B7,"000")),"No finding") -> No finding | B3: =IF('Comments & Feedback'!C7<>"",'Comments & Feedback'!C7,"") | C3: =IF('Comments & Feedback'!D7<>"",'Comments & Feedback'!D7,"") | D3: =IF('Comments & Feedback'!E7<>"",'Comments & Feedback'!E7,"") -> <Other> | E3: =IF('Comments & Feedback'!F7<>"",'Comments & Feedback'!F7,"") | F3: =IF('Comments & Feedback'!G7<>"",'Comments & Feedback'!G7,"") | G3: =IF('Comments & Feedback'!H7<>"",'Comments & Feedback'!H7,"") | H3: =IF('Comments & Feedback'!I7<>"",'Comments & Feedback'!I7,"") | I3: =IF('Comments & Feedback'!J7<>"",'Comments & Feedback'!J7,"") | J3: yes | K3: 46248
A4: =IF('Comments & Feedback'!$I8<>"",IF(Cover!$C$11="","#",_xlfn.TEXTAFTER(LEFT(Cover!$C$11,LEN(Cover!$C$11)-1),"["))&"_"&IF(Cover!$C$13="","#",Cover!$C$13)&"_"&IF(RIGHT(Cover!$C$14,4)="","#",SUBSTITUTE(SUBSTITUTE(RIGHT(Cover!$C$14,4),"[",""),"]",""))&"_"&IF(LEFT(Cover!$C$20,4)="","#",LEFT(Cover!$C$20,4))&"_"&IF(LEFT(Cover!$C$18,3)="","#",LEFT(Cover!$C$18,3))&"_"&IF('Comments & Feedback'!$B8="","#",TEXT('Comments & Feedback'!$B8,"000")),"No finding") -> No finding | B4: =IF('Comments & Feedback'!C8<>"",'Comments & Feedback'!C8,"") | C4: =IF('Comments & Feedback'!D8<>"",'Comments & Feedback'!D8,"") | D4: =IF('Comments & Feedback'!E8<>"",'Comments & Feedback'!E8,"") | E4: =IF('Comments & Feedback'!F8<>"",'Comments & Feedback'!F8,"") | F4: =IF('Comments & Feedback'!G8<>"",'Comments & Feedback'!G8,"") | G4: =IF('Comments & Feedback'!H8<>"",'Comments & Feedback'!H8,"") | H4: =IF('Comments & Feedback'!I8<>"",'Comments & Feedback'!I8,"") | I4: =IF('Comments & Feedback'!J8<>"",'Comments & Feedback'!J8,"") | J4: no
A5: =IF('Comments & Feedback'!$I9<>"",IF(Cover!$C$11="","#",_xlfn.TEXTAFTER(LEFT(Cover!$C$11,LEN(Cover!$C$11)-1),"["))&"_"&IF(Cover!$C$13="","#",Cover!$C$13)&"_"&IF(RIGHT(Cover!$C$14,4)="","#",SUBSTITUTE(SUBSTITUTE(RIGHT(Cover!$C$14,4),"[",""),"]",""))&"_"&IF(LEFT(Cover!$C$20,4)="","#",LEFT(Cover!$C$20,4))&"_"&IF(LEFT(Cover!$C$18,3)="","#",LEFT(Cover!$C$18,3))&"_"&IF('Comments & Feedback'!$B9="","#",TEXT('Comments & Feedback'!$B9,"000")),"No finding") -> No finding | B5: =IF('Comments & Feedback'!C9<>"",'Comments & Feedback'!C9,"") | C5: =IF('Comments & Feedback'!D9<>"",'Comments & Feedback'!D9,"") | D5: =IF('Comments & Feedback'!E9<>"",'Comments & Feedback'!E9,"") | E5: =IF('Comments & Feedback'!F9<>"",'Comments & Feedback'!F9,"") | F5: =IF('Comments & Feedback'!G9<>"",'Comments & Feedback'!G9,"") | G5: =IF('Comments & Feedback'!H9<>"",'Comments & Feedback'!H9,"") | H5: =IF('Comments & Feedback'!I9<>"",'Comments & Feedback'!I9,"") | I5: =IF('Comments & Feedback'!J9<>"",'Comments & Feedback'!J9,"") | J5: no
A6: =IF('Comments & Feedback'!$I10<>"",IF(Cover!$C$11="","#",_xlfn.TEXTAFTER(LEFT(Cover!$C$11,LEN(Cover!$C$11)-1),"["))&"_"&IF(Cover!$C$13="","#",Cover!$C$13)&"_"&IF(RIGHT(Cover!$C$14,4)="","#",SUBSTITUTE(SUBSTITUTE(RIGHT(Cover!$C$14,4),"[",""),"]",""))&"_"&IF(LEFT(Cover!$C$20,4)="","#",LEFT(Cover!$C$20,4))&"_"&IF(LEFT(Cover!$C$18,3)="","#",LEFT(Cover!$C$18,3))&"_"&IF('Comments & Feedback'!$B10="","#",TEXT('Comments & Feedback'!$B10,"000")),"No finding") -> No finding | B6: =IF('Comments & Feedback'!C10<>"",'Comments & Feedback'!C10,"") | C6: =IF('Comments & Feedback'!D10<>"",'Comments & Feedback'!D10,"") | D6: =IF('Comments & Feedback'!E10<>"",'Comments & Feedback'!E10,"") | E6: =IF('Comments & Feedback'!F10<>"",'Comments & Feedback'!F10,"") | F6: =IF('Comments & Feedback'!G10<>"",'Comments & Feedback'!G10,"") | G6: =IF('Comments & Feedback'!H10<>"",'Comments & Feedback'!H10,"") | H6: =IF('Comments & Feedback'!I10<>"",'Comments & Feedback'!I10,"") | I6: =IF('Comments & Feedback'!J10<>"",'Comments & Feedback'!J10,"") | J6: no
A7: =IF('Comments & Feedback'!$I11<>"",IF(Cover!$C$11="","#",_xlfn.TEXTAFTER(LEFT(Cover!$C$11,LEN(Cover!$C$11)-1),"["))&"_"&IF(Cover!$C$13="","#",Cover!$C$13)&"_"&IF(RIGHT(Cover!$C$14,4)="","#",SUBSTITUTE(SUBSTITUTE(RIGHT(Cover!$C$14,4),"[",""),"]",""))&"_"&IF(LEFT(Cover!$C$20,4)="","#",LEFT(Cover!$C$20,4))&"_"&IF(LEFT(Cover!$C$18,3)="","#",LEFT(Cover!$C$18,3))&"_"&IF('Comments & Feedback'!$B11="","#",TEXT('Comments & Feedback'!$B11,"000")),"No finding") -> No finding | B7: =IF('Comments & Feedback'!C11<>"",'Comments & Feedback'!C11,"") | C7: =IF('Comments & Feedback'!D11<>"",'Comments & Feedback'!D11,"") | D7: =IF('Comments & Feedback'!E11<>"",'Comments & Feedback'!E11,"") | E7: =IF('Comments & Feedback'!F11<>"",'Comments & Feedback'!F11,"") | F7: =IF('Comments & Feedback'!G11<>"",'Comments & Feedback'!G11,"") | G7: =IF('Comments & Feedback'!H11<>"",'Comments & Feedback'!H11,"") | H7: =IF('Comments & Feedback'!I11<>"",'Comments & Feedback'!I11,"") | I7: =IF('Comments & Feedback'!J11<>"",'Comments & Feedback'!J11,"") | J7: no
A8: =IF('Comments & Feedback'!$I12<>"",IF(Cover!$C$11="","#",_xlfn.TEXTAFTER(LEFT(Cover!$C$11,LEN(Cover!$C$11)-1),"["))&"_"&IF(Cover!$C$13="","#",Cover!$C$13)&"_"&IF(RIGHT(Cover!$C$14,4)="","#",SUBSTITUTE(SUBSTITUTE(RIGHT(Cover!$C$14,4),"[",""),"]",""))&"_"&IF(LEFT(Cover!$C$20,4)="","#",LEFT(Cover!$C$20,4))&"_"&IF(LEFT(Cover!$C$18,3)="","#",LEFT(Cover!$C$18,3))&"_"&IF('Comments & Feedback'!$B12="","#",TEXT('Comments & Feedback'!$B12,"000")),"No finding") -> No finding | B8: =IF('Comments & Feedback'!C12<>"",'Comments & Feedback'!C12,"") | C8: =IF('Comments & Feedback'!D12<>"",'Comments & Feedback'!D12,"") | D8: =IF('Comments & Feedback'!E12<>"",'Comments & Feedback'!E12,"") | E8: =IF('Comments & Feedback'!F12<>"",'Comments & Feedback'!F12,"") | F8: =IF('Comments & Feedback'!G12<>"",'Comments & Feedback'!G12,"") | G8: =IF('Comments & Feedback'!H12<>"",'Comments & Feedback'!H12,"") | H8: =IF('Comments & Feedback'!I12<>"",'Comments & Feedback'!I12,"") | I8: =IF('Comments & Feedback'!J12<>"",'Comments & Feedback'!J12,"") | J8: no
A9: =IF('Comments & Feedback'!$I13<>"",IF(Cover!$C$11="","#",_xlfn.TEXTAFTER(LEFT(Cover!$C$11,LEN(Cover!$C$11)-1),"["))&"_"&IF(Cover!$C$13="","#",Cover!$C$13)&"_"&IF(RIGHT(Cover!$C$14,4)="","#",SUBSTITUTE(SUBSTITUTE(RIGHT(Cover!$C$14,4),"[",""),"]",""))&"_"&IF(LEFT(Cover!$C$20,4)="","#",LEFT(Cover!$C$20,4))&"_"&IF(LEFT(Cover!$C$18,3)="","#",LEFT(Cover!$C$18,3))&"_"&IF('Comments & Feedback'!$B13="","#",TEXT('Comments & Feedback'!$B13,"000")),"No finding") -> No finding | B9: =IF('Comments & Feedback'!C13<>"",'Comments & Feedback'!C13,"") | C9: =IF('Comments & Feedback'!D13<>"",'Comments & Feedback'!D13,"") | D9: =IF('Comments & Feedback'!E13<>"",'Comments & Feedback'!E13,"") | E9: =IF('Comments & Feedback'!F13<>"",'Comments & Feedback'!F13,"") | F9: =IF('Comments & Feedback'!G13<>"",'Comments & Feedback'!G13,"") | G9: =IF('Comments & Feedback'!H13<>"",'Comments & Feedback'!H13,"") | H9: =IF('Comments & Feedback'!I13<>"",'Comments & Feedback'!I13,"") | I9: =IF('Comments & Feedback'!J13<>"",'Comments & Feedback'!J13,"") | J9: no
A10: =IF('Comments & Feedback'!$I14<>"",IF(Cover!$C$11="","#",_xlfn.TEXTAFTER(LEFT(Cover!$C$11,LEN(Cover!$C$11)-1),"["))&"_"&IF(Cover!$C$13="","#",Cover!$C$13)&"_"&IF(RIGHT(Cover!$C$14,4)="","#",SUBSTITUTE(SUBSTITUTE(RIGHT(Cover!$C$14,4),"[",""),"]",""))&"_"&IF(LEFT(Cover!$C$20,4)="","#",LEFT(Cover!$C$20,4))&"_"&IF(LEFT(Cover!$C$18,3)="","#",LEFT(Cover!$C$18,3))&"_"&IF('Comments & Feedback'!$B14="","#",TEXT('Comments & Feedback'!$B14,"000")),"No finding") -> No finding | B10: =IF('Comments & Feedback'!C14<>"",'Comments & Feedback'!C14,"") | C10: =IF('Comments & Feedback'!D14<>"",'Comments & Feedback'!D14,"") | D10: =IF('Comments & Feedback'!E14<>"",'Comments & Feedback'!E14,"") | E10: =IF('Comments & Feedback'!F14<>"",'Comments & Feedback'!F14,"") | F10: =IF('Comments & Feedback'!G14<>"",'Comments & Feedback'!G14,"") | G10: =IF('Comments & Feedback'!H14<>"",'Comments & Feedback'!H14,"") | H10: =IF('Comments & Feedback'!I14<>"",'Comments & Feedback'!I14,"") | I10: =IF('Comments & Feedback'!J14<>"",'Comments & Feedback'!J14,"") | J10: no
A11: =IF('Comments & Feedback'!$I15<>"",IF(Cover!$C$11="","#",_xlfn.TEXTAFTER(LEFT(Cover!$C$11,LEN(Cover!$C$11)-1),"["))&"_"&IF(Cover!$C$13="","#",Cover!$C$13)&"_"&IF(RIGHT(Cover!$C$14,4)="","#",SUBSTITUTE(SUBSTITUTE(RIGHT(Cover!$C$14,4),"[",""),"]",""))&"_"&IF(LEFT(Cover!$C$20,4)="","#",LEFT(Cover!$C$20,4))&"_"&IF(LEFT(Cover!$C$18,3)="","#",LEFT(Cover!$C$18,3))&"_"&IF('Comments & Feedback'!$B15="","#",TEXT('Comments & Feedback'!$B15,"000")),"No finding") -> No finding | B11: =IF('Comments & Feedback'!C15<>"",'Comments & Feedback'!C15,"") | C11: =IF('Comments & Feedback'!D15<>"",'Comments & Feedback'!D15,"") | D11: =IF('Comments & Feedback'!E15<>"",'Comments & Feedback'!E15,"") | E11: =IF('Comments & Feedback'!F15<>"",'Comments & Feedback'!F15,"") | F11: =IF('Comments & Feedback'!G15<>"",'Comments & Feedback'!G15,"") | G11: =IF('Comments & Feedback'!H15<>"",'Comments & Feedback'!H15,"") | H11: =IF('Comments & Feedback'!I15<>"",'Comments & Feedback'!I15,"") | I11: =IF('Comments & Feedback'!J15<>"",'Comments & Feedback'!J15,"") | J11: no
A12: =IF('Comments & Feedback'!$I16<>"",IF(Cover!$C$11="","#",_xlfn.TEXTAFTER(LEFT(Cover!$C$11,LEN(Cover!$C$11)-1),"["))&"_"&IF(Cover!$C$13="","#",Cover!$C$13)&"_"&IF(RIGHT(Cover!$C$14,4)="","#",SUBSTITUTE(SUBSTITUTE(RIGHT(Cover!$C$14,4),"[",""),"]",""))&"_"&IF(LEFT(Cover!$C$20,4)="","#",LEFT(Cover!$C$20,4))&"_"&IF(LEFT(Cover!$C$18,3)="","#",LEFT(Cover!$C$18,3))&"_"&IF('Comments & Feedback'!$B16="","#",TEXT('Comments & Feedback'!$B16,"000")),"No finding") -> No finding | B12: =IF('Comments & Feedback'!C16<>"",'Comments & Feedback'!C16,"") | C12: =IF('Comments & Feedback'!D16<>"",'Comments & Feedback'!D16,"") | D12: =IF('Comments & Feedback'!E16<>"",'Comments & Feedback'!E16,"") | E12: =IF('Comments & Feedback'!F16<>"",'Comments & Feedback'!F16,"") | F12: =IF('Comments & Feedback'!G16<>"",'Comments & Feedback'!G16,"") | G12: =IF('Comments & Feedback'!H16<>"",'Comments & Feedback'!H16,"") | H12: =IF('Comments & Feedback'!I16<>"",'Comments & Feedback'!I16,"") | I12: =IF('Comments & Feedback'!J16<>"",'Comments & Feedback'!J16,"") | J12: no
A13: =IF('Comments & Feedback'!$I17<>"",IF(Cover!$C$11="","#",_xlfn.TEXTAFTER(LEFT(Cover!$C$11,LEN(Cover!$C$11)-1),"["))&"_"&IF(Cover!$C$13="","#",Cover!$C$13)&"_"&IF(RIGHT(Cover!$C$14,4)="","#",SUBSTITUTE(SUBSTITUTE(RIGHT(Cover!$C$14,4),"[",""),"]",""))&"_"&IF(LEFT(Cover!$C$20,4)="","#",LEFT(Cover!$C$20,4))&"_"&IF(LEFT(Cover!$C$18,3)="","#",LEFT(Cover!$C$18,3))&"_"&IF('Comments & Feedback'!$B17="","#",TEXT('Comments & Feedback'!$B17,"000")),"No finding") -> No finding | B13: =IF('Comments & Feedback'!C17<>"",'Comments & Feedback'!C17,"") | C13: =IF('Comments & Feedback'!D17<>"",'Comments & Feedback'!D17,"") | D13: =IF('Comments & Feedback'!E17<>"",'Comments & Feedback'!E17,"") | E13: =IF('Comments & Feedback'!F17<>"",'Comments & Feedback'!F17,"") | F13: =IF('Comments & Feedback'!G17<>"",'Comments & Feedback'!G17,"") | G13: =IF('Comments & Feedback'!H17<>"",'Comments & Feedback'!H17,"") | H13: =IF('Comments & Feedback'!I17<>"",'Comments & Feedback'!I17,"") | I13: =IF('Comments & Feedback'!J17<>"",'Comments & Feedback'!J17,"") | J13: no
A14: =IF('Comments & Feedback'!$I18<>"",IF(Cover!$C$11="","#",_xlfn.TEXTAFTER(LEFT(Cover!$C$11,LEN(Cover!$C$11)-1),"["))&"_"&IF(Cover!$C$13="","#",Cover!$C$13)&"_"&IF(RIGHT(Cover!$C$14,4)="","#",SUBSTITUTE(SUBSTITUTE(RIGHT(Cover!$C$14,4),"[",""),"]",""))&"_"&IF(LEFT(Cover!$C$20,4)="","#",LEFT(Cover!$C$20,4))&"_"&IF(LEFT(Cover!$C$18,3)="","#",LEFT(Cover!$C$18,3))&"_"&IF('Comments & Feedback'!$B18="","#",TEXT('Comments & Feedback'!$B18,"000")),"No finding") -> No finding | B14: =IF('Comments & Feedback'!C18<>"",'Comments & Feedback'!C18,"") | C14: =IF('Comments & Feedback'!D18<>"",'Comments & Feedback'!D18,"") | D14: =IF('Comments & Feedback'!E18<>"",'Comments & Feedback'!E18,"") | E14: =IF('Comments & Feedback'!F18<>"",'Comments & Feedback'!F18,"") | F14: =IF('Comments & Feedback'!G18<>"",'Comments & Feedback'!G18,"") | G14: =IF('Comments & Feedback'!H18<>"",'Comments & Feedback'!H18,"") | H14: =IF('Comments & Feedback'!I18<>"",'Comments & Feedback'!I18,"") | I14: =IF('Comments & Feedback'!J18<>"",'Comments & Feedback'!J18,"") | J14: no
A15: =IF('Comments & Feedback'!$I19<>"",IF(Cover!$C$11="","#",_xlfn.TEXTAFTER(LEFT(Cover!$C$11,LEN(Cover!$C$11)-1),"["))&"_"&IF(Cover!$C$13="","#",Cover!$C$13)&"_"&IF(RIGHT(Cover!$C$14,4)="","#",SUBSTITUTE(SUBSTITUTE(RIGHT(Cover!$C$14,4),"[",""),"]",""))&"_"&IF(LEFT(Cover!$C$20,4)="","#",LEFT(Cover!$C$20,4))&"_"&IF(LEFT(Cover!$C$18,3)="","#",LEFT(Cover!$C$18,3))&"_"&IF('Comments & Feedback'!$B19="","#",TEXT('Comments & Feedback'!$B19,"000")),"No finding") -> No finding | B15: =IF('Comments & Feedback'!C19<>"",'Comments & Feedback'!C19,"") | C15: =IF('Comments & Feedback'!D19<>"",'Comments & Feedback'!D19,"") | D15: =IF('Comments & Feedback'!E19<>"",'Comments & Feedback'!E19,"") | E15: =IF('Comments & Feedback'!F19<>"",'Comments & Feedback'!F19,"") | F15: =IF('Comments & Feedback'!G19<>"",'Comments & Feedback'!G19,"") | G15: =IF('Comments & Feedback'!H19<>"",'Comments & Feedback'!H19,"") | H15: =IF('Comments & Feedback'!I19<>"",'Comments & Feedback'!I19,"") | I15: =IF('Comments & Feedback'!J19<>"",'Comments & Feedback'!J19,"") | J15: no
... A201: =IF('Comments & Feedback'!$I205<>"",IF(Cover!$C$11="","#",_xlfn.TEXTAFTER(LEFT(Cover!$C$11,LEN(Cover!$C$11)-1),"["))&"_"&IF(Cover!$C$13="","#",Cover!$C$13)&"_"&IF(RIGHT(Cover!$C$14,4)="","#",SUBSTITUTE(SUBSTITUTE(RIGHT(Cover!$C$14,4),"[",""),"]",""))&"_"&IF(LEFT(Cover!$C$20,4)="","#",LEFT(Cover!$C$20,4))&"_"&IF(LEFT(Cover!$C$18,3)="","#",LEFT(Cover!$C$18,3))&"_"&IF('Comments & Feedback'!$B205="","#",TEXT('Comments & Feedback'!$B205,"000")),"No finding") -> No finding | B201: =IF('Comments & Feedback'!C205<>"",'Comments & Feedback'!C205,"") | C201: =IF('Comments & Feedback'!D205<>"",'Comments & Feedback'!D205,"") | D201: =IF('Comments & Feedback'!E205<>"",'Comments & Feedback'!E205,"") | E201: =IF('Comments & Feedback'!F205<>"",'Comments & Feedback'!F205,"") | F201: =IF('Comments & Feedback'!G205<>"",'Comments & Feedback'!G205,"") | G201: =IF('Comments & Feedback'!H205<>"",'Comments & Feedback'!H205,"") | H201: =IF('Comments & Feedback'!I205<>"",'Comments & Feedback'!I205,"") | I201: =IF('Comments & Feedback'!J205<>"",'Comments & Feedback'!J205,"") | J201: no

Sheet Data
B2: Cover | G2: Comments & Feedback Sheet
B3: Document | C3: Document Status | D3: Review Type | E3: Planned Revision | G3: Chapter | H3: Finding Type
B4: <Other> | C4: <Other> | D4: Other [OR] | E4: <Other> | G4: <Other> | H4: <Other>
B5: ASPICE Process Assessment Model [PAM] | C5: Draft | D5: Expert [ER] | E5: V1.0 | G5: <General> | H5: <General>
B6: ASPICE for Cybersecurity [CS PAM] | C6: Yellow Volume | D6: Internal [IR] | E6: V2.0 | G6: Table of Content | H6: Terminology
B7: ASPICE Guideline [BGB] | D7: Yellow Volume [YR] | E7: V3.0 | G7: Terms and glossary | H7: Content
B8: ASPICE Potential Analysis [PoA] | E8: V4.0 | G8: 1 - Introduction | H8: Editorial
B9: VDA QMC Supplier Self Assessment [SUSA] | E9: V4.1 | G9: 1.1 - Scope | H9: Typo
E10: V5.0 | G10: 1.2 - Statement of Compliance
E11: Revision 2 | G11: 1.3 - Policies and Assumptions
G12: 1.3.1 - Generic Rationales
G13: 1.3.2 - Process specific Rationales
G14: 2 - Process capability determination
G15: 2.1 - Process reference model
G16: 2.1.1 - Process specific rationales
G17: 2.2 - Measurement framework
G18: 2.2.1 - Process capability levels and process attributes
G19: 2.2.2 - Process attribute rating
G20: 2.2.3 - Rating and aggregation method
G21: 2.3 - Process assessment model
G22: 2.3.1 - Assessment indicators
G23: 2.4 - Understanding the level of abstraction of a PAM
... G88: Annex C - Bibliography
